BEGIN:VCALENDAR
VERSION:2.0
PRODID:-//Plone.org//NONSGML plone.app.event//EN
X-WR-TIMEZONE:Europe/Vienna
BEGIN:VEVENT
SUMMARY:Karlstag 2009
DTSTART;VALUE=DATE:20090626
DTEND;VALUE=DATE:20090627
DTSTAMP:20260425T175726Z
UID:07c67409b9d249ccd4839647b3fe57de@www.akbild.ac.at
CATEGORIES:Vorträge / Veranstaltungen
CREATED:20220311T230654Z
DESCRIPTION:Der Kunstplatz Karlsplatz feiert sich und seine zahlreichen Ku
 nst-\, Kultur- und  Bildungsinstitutionen mit einem großen Fest. Führung
 en durch die diesjährigen Diplomarbeiten mit Matthias Herrmann (12.00 Uhr
  bis 12.40 Uhr) und die Ausstellung "Himmel und Hölle" in der Gemäldegal
 erie der Akademie der bildenden Künste Wien (13.00 Uhr bis 14.00 Uhr).
LAST-MODIFIED:20240919T081119Z
URL:https://www.akbild.ac.at/de/universitaet/veranstaltungen/vortraege-eve
 nts/2009/akbild_event.2009-06-16.4300284146
END:VEVENT
END:VCALENDAR
