BEGIN:VCALENDAR
VERSION:2.0
PRODID:-//Plone.org//NONSGML plone.app.event//EN
X-WR-TIMEZONE:Europe/Vienna
BEGIN:VEVENT
SUMMARY:Vortrag Erwin Bohatsch
DTSTART;TZID=Europe/Vienna:20090623T160000
DTSTAMP:20260426T043000Z
UID:0226612cef15222e311b3ccbfc27796f@www.akbild.ac.at
CATEGORIES:Vorträge / Veranstaltungen
CREATED:20220311T230513Z
DESCRIPTION:Vortrag im Rahmen des Verfahrens zur Verlängerung befristeter
  Vertragsverhältnisse von UniversitätsprofessorInnen\, gemäß § 4 Abs.
 4.
LAST-MODIFIED:20240919T081116Z
URL:https://www.akbild.ac.at/de/universitaet/veranstaltungen/vortraege-eve
 nts/2009/akbild_event.2009-06-19.2992682654
END:VEVENT
BEGIN:VTIMEZONE
TZID:Europe/Vienna
X-LIC-LOCATION:Europe/Vienna
BEGIN:DAYLIGHT
DTSTART:20090329T030000
TZNAME:CEST
TZOFFSETFROM:+0100
TZOFFSETTO:+0200
END:DAYLIGHT
END:VTIMEZONE
END:VCALENDAR
