BEGIN:VCALENDAR
VERSION:2.0
PRODID:-//Plone.org//NONSGML plone.app.event//EN
X-WR-TIMEZONE:Europe/Vienna
BEGIN:VEVENT
SUMMARY:Antrittsvorlesung von Prof. Peter Trummer
DTSTART;TZID=Europe/Vienna:20091111T163000
DTSTAMP:20260421T204913Z
UID:843fa085c07975cf34aa09cc7fc28f2b@www.akbild.ac.at
CATEGORIES:Vorträge / Veranstaltungen
CREATED:20220311T230554Z
DESCRIPTION:Roland Rainer-Stiftungsgastprofessur für Architekturentwurf u
 nd Forschung 2009/10 am Institut für Kunst und Architektur.
LAST-MODIFIED:20240919T081116Z
URL:https://www.akbild.ac.at/de/universitaet/veranstaltungen/vortraege-eve
 nts/2009/akbild_event.2009-10-30.8441788975
END:VEVENT
BEGIN:VTIMEZONE
TZID:Europe/Vienna
X-LIC-LOCATION:Europe/Vienna
BEGIN:STANDARD
DTSTART:20091025T020000
TZNAME:CET
TZOFFSETFROM:+0200
TZOFFSETTO:+0100
END:STANDARD
END:VTIMEZONE
END:VCALENDAR
