BEGIN:VCALENDAR
VERSION:2.0
PRODID:-//Plone.org//NONSGML plone.app.event//EN
X-WR-TIMEZONE:Europe/Vienna
BEGIN:VEVENT
SUMMARY:Felix Axster | Bilder verkehren. Postkarten in der visuellen Kultu
 r des deutschen Kolonialismus
DTSTART;TZID=Europe/Vienna:20091215T160000
DTEND;TZID=Europe/Vienna:20091215T180000
DTSTAMP:20260425T012851Z
UID:d7919534941623b310788d146985e24c@www.akbild.ac.at
CATEGORIES:Vorträge / Veranstaltungen
CREATED:20220311T230617Z
DESCRIPTION:Vortrag im Rahmen der Vorlesung „Koloniale und postkoloniale
  Reisebilder“ von Christian Kravagna | Institut für Kunst- und Kulturwi
 ssenschaften
LAST-MODIFIED:20240919T081116Z
URL:https://www.akbild.ac.at/de/universitaet/veranstaltungen/vortraege-eve
 nts/2009/akbild_event.2009-12-12.6323531613
END:VEVENT
BEGIN:VTIMEZONE
TZID:Europe/Vienna
X-LIC-LOCATION:Europe/Vienna
BEGIN:STANDARD
DTSTART:20091025T020000
TZNAME:CET
TZOFFSETFROM:+0200
TZOFFSETTO:+0100
END:STANDARD
END:VTIMEZONE
END:VCALENDAR
