BEGIN:VCALENDAR
VERSION:2.0
PRODID:-//Plone.org//NONSGML plone.app.event//EN
X-WR-TIMEZONE:Europe/Vienna
BEGIN:VEVENT
SUMMARY:Staatskanzler Fürst Kaunitz und die k.k. Akademie der bildenden K
 ünste in Wien
DTSTART;TZID=Europe/Vienna:20090331T180000
DTSTAMP:20260425T012953Z
UID:d03c095636248e8f73ccb0ff6a183982@www.akbild.ac.at
CATEGORIES:Vorträge / Veranstaltungen
CREATED:20220311T230326Z
DESCRIPTION:Sektionschef a.D. Mag. phil. et Dr. jur. Kurt Haslinger\n \n V
 ortrag der Österreichischen Goethe - Gesellschaft gemeinsam mit dem Kupfe
 rstichkabinett
LAST-MODIFIED:20240919T081115Z
URL:https://www.akbild.ac.at/de/universitaet/veranstaltungen/vortraege-eve
 nts/2009/copy_of_akbild_event.2009-03-20.2247670266
END:VEVENT
BEGIN:VTIMEZONE
TZID:Europe/Vienna
X-LIC-LOCATION:Europe/Vienna
BEGIN:DAYLIGHT
DTSTART:20090329T030000
TZNAME:CEST
TZOFFSETFROM:+0100
TZOFFSETTO:+0200
END:DAYLIGHT
END:VTIMEZONE
END:VCALENDAR
