BEGIN:VCALENDAR
VERSION:2.0
PRODID:-//Plone.org//NONSGML plone.app.event//EN
X-WR-TIMEZONE:Europe/Vienna
BEGIN:VEVENT
SUMMARY:Gülsün Karamustafa | The Long Walk
DTSTART;TZID=Europe/Vienna:20100121T173000
DTSTAMP:20260423T144034Z
UID:198959a667e09e073cec2115996684ef@www.akbild.ac.at
CATEGORIES:Vorträge / Veranstaltungen
CREATED:20220311T230712Z
DESCRIPTION:Vorlesung zum Start des artist in residence-Programmes im Rahm
 en des "My City" Projekts in Kooperation mit dem British Council.
LAST-MODIFIED:20240919T081109Z
URL:https://www.akbild.ac.at/de/universitaet/veranstaltungen/vortraege-eve
 nts/2010/akbild_event.2010-01-18.3701463090
END:VEVENT
BEGIN:VTIMEZONE
TZID:Europe/Vienna
X-LIC-LOCATION:Europe/Vienna
BEGIN:STANDARD
DTSTART:20091025T020000
TZNAME:CET
TZOFFSETFROM:+0200
TZOFFSETTO:+0100
END:STANDARD
END:VTIMEZONE
END:VCALENDAR
