BEGIN:VCALENDAR
VERSION:2.0
PRODID:-//Plone.org//NONSGML plone.app.event//EN
X-WR-TIMEZONE:Europe/Vienna
BEGIN:VEVENT
SUMMARY:Gipsy World - Music and more
DTSTART;VALUE=DATE:20100402
DTEND;VALUE=DATE:20100409
DTSTAMP:20260419T162905Z
UID:e285a42721fc61b5ee7a17a56ff26a02@www.akbild.ac.at
CATEGORIES:Vorträge / Veranstaltungen
CREATED:20220311T231117Z
DESCRIPTION:Zum zweiten Mal veranstalten das porgy &amp\; bess\, das rites
 institute und der Roma Verein GipsyInfo\, diesmal in Kooperation mit der A
 kademie der bildenden Künste ein großes Gipsy-Festival. Mit Angelo Debar
 re\, Biréli Lagrène und Sylvian Luc sind die wesentlichsten Vertreter de
 r Schule Django Reinhardts zu Gast\, der im Jänner dieses Jahres 100 Jahr
 e alt geworden wäre.
LAST-MODIFIED:20240919T081112Z
URL:https://www.akbild.ac.at/de/universitaet/veranstaltungen/vortraege-eve
 nts/2010/akbild_event.2010-04-01.0104423888
END:VEVENT
END:VCALENDAR
