BEGIN:VCALENDAR
VERSION:2.0
PRODID:-//Plone.org//NONSGML plone.app.event//EN
X-WR-TIMEZONE:Europe/Vienna
BEGIN:VEVENT
SUMMARY:Simon Sheikh | A Conceptual History of Exhibition-making
DTSTART;TZID=Europe/Vienna:20100506T190000
DTSTAMP:20260423T083316Z
UID:bc43b3d3b25038112480a7b660ff1ceb@www.akbild.ac.at
CATEGORIES:Vorträge / Veranstaltungen
CREATED:20220311T230821Z
DESCRIPTION:Vortrag (Englisch) im Rahmen des WWTF/Art(s) &amp\; Sciences-F
 orschungsprojekts "Troubling Research. Performing Knowledge in the Arts"
LAST-MODIFIED:20240919T081109Z
URL:https://www.akbild.ac.at/de/universitaet/veranstaltungen/vortraege-eve
 nts/2010/akbild_event.2010-04-01.3044433927
END:VEVENT
BEGIN:VTIMEZONE
TZID:Europe/Vienna
X-LIC-LOCATION:Europe/Vienna
BEGIN:DAYLIGHT
DTSTART:20100328T030000
TZNAME:CEST
TZOFFSETFROM:+0100
TZOFFSETTO:+0200
END:DAYLIGHT
END:VTIMEZONE
END:VCALENDAR
