BEGIN:VCALENDAR
VERSION:2.0
PRODID:-//Plone.org//NONSGML plone.app.event//EN
X-WR-TIMEZONE:Europe/Vienna
BEGIN:VEVENT
SUMMARY:Michelle Kuo | Forschung und Entwicklung. Experiments in Art and T
 echnology (E.A.T.)\, 1966ff.
DTSTART;TZID=Europe/Vienna:20100622T190000
DTSTAMP:20260424T132423Z
UID:f6eb1ea0e4adec89d81aec977ac8af08@www.akbild.ac.at
CATEGORIES:Vorträge / Veranstaltungen
CREATED:20220311T230921Z
DESCRIPTION:Vortrag (Englisch) im Rahmen des WWTF/Art(s) &amp\; Sciences-F
 orschungsprojekts "Troubling Research. Performing Knowledge in the Arts"
LAST-MODIFIED:20240919T081109Z
URL:https://www.akbild.ac.at/de/universitaet/veranstaltungen/vortraege-eve
 nts/2010/akbild_event.2010-04-01.4234882168
END:VEVENT
BEGIN:VTIMEZONE
TZID:Europe/Vienna
X-LIC-LOCATION:Europe/Vienna
BEGIN:DAYLIGHT
DTSTART:20100328T030000
TZNAME:CEST
TZOFFSETFROM:+0100
TZOFFSETTO:+0200
END:DAYLIGHT
END:VTIMEZONE
END:VCALENDAR
