BEGIN:VCALENDAR
VERSION:2.0
PRODID:-//Plone.org//NONSGML plone.app.event//EN
X-WR-TIMEZONE:Europe/Vienna
BEGIN:VEVENT
SUMMARY:Die Akademie ist keine Insel!
DTSTART;TZID=Europe/Vienna:20100601T100000
DTEND;TZID=Europe/Vienna:20100601T210000
DTSTAMP:20260423T234511Z
UID:faa7b27a37040243e55c13aa8600a9da@www.akbild.ac.at
CATEGORIES:Vorträge / Veranstaltungen
CREATED:20220311T230826Z
DESCRIPTION:Sexismus\, sexualisierte und sexuelle Gewalt sind auch hier Re
 alität.\n \n Workshops und Vorträge für alle Akademieangehörigen: Allg
 emeines Personal\, künstlerisch-wissenschaftliches Personal und Studieren
 de
LAST-MODIFIED:20240919T081109Z
URL:https://www.akbild.ac.at/de/universitaet/veranstaltungen/vortraege-eve
 nts/2010/akbild_event.2010-05-25.1925524487
END:VEVENT
BEGIN:VTIMEZONE
TZID:Europe/Vienna
X-LIC-LOCATION:Europe/Vienna
BEGIN:DAYLIGHT
DTSTART:20100328T030000
TZNAME:CEST
TZOFFSETFROM:+0100
TZOFFSETTO:+0200
END:DAYLIGHT
END:VTIMEZONE
END:VCALENDAR
