BEGIN:VCALENDAR
VERSION:2.0
PRODID:-//Plone.org//NONSGML plone.app.event//EN
X-WR-TIMEZONE:Europe/Vienna
BEGIN:VEVENT
SUMMARY:Und was hat das mit mir zu tun?
DTSTART;TZID=Europe/Vienna:20100607T170000
DTEND;TZID=Europe/Vienna:20100607T190000
DTSTAMP:20260425T225755Z
UID:5beab898cb92c721994b68ea3c7b17d7@www.akbild.ac.at
CATEGORIES:Vorträge / Veranstaltungen
CREATED:20220311T231118Z
DESCRIPTION:Gespräche zu Geschichtsvermittlung\n \n Ein Projekt in Zusamm
 enarbeit mit: Tobias Dörler\, Cornelia Hauer\, Werner Prokop\, Anna Schä
 hle\, Melanie Wurth und Maria Hündler\, Institut für das künstlerische 
 Lehramt\, Akademie der bildenden Künste Wien
LAST-MODIFIED:20240919T081112Z
URL:https://www.akbild.ac.at/de/universitaet/veranstaltungen/vortraege-eve
 nts/2010/akbild_event.2010-05-31.5112315246
END:VEVENT
BEGIN:VTIMEZONE
TZID:Europe/Vienna
X-LIC-LOCATION:Europe/Vienna
BEGIN:DAYLIGHT
DTSTART:20100328T030000
TZNAME:CEST
TZOFFSETFROM:+0100
TZOFFSETTO:+0200
END:DAYLIGHT
END:VTIMEZONE
END:VCALENDAR
