BEGIN:VCALENDAR
VERSION:2.0
PRODID:-//Plone.org//NONSGML plone.app.event//EN
X-WR-TIMEZONE:Europe/Vienna
BEGIN:VEVENT
SUMMARY:Final studio presentations | Institut für Kunst und Architektur
DTSTART;VALUE=DATE:20100623
DTEND;VALUE=DATE:20100626
DTSTAMP:20260424T071618Z
UID:7fa275a17bad68bdd388dc38809182f9@www.akbild.ac.at
CATEGORIES:Vorträge / Veranstaltungen
CREATED:20220311T230932Z
LAST-MODIFIED:20240919T081112Z
URL:https://www.akbild.ac.at/de/universitaet/veranstaltungen/vortraege-eve
 nts/2010/akbild_event.2010-06-24.8057725876
END:VEVENT
END:VCALENDAR
