BEGIN:VCALENDAR
VERSION:2.0
PRODID:-//Plone.org//NONSGML plone.app.event//EN
X-WR-TIMEZONE:Europe/Vienna
BEGIN:VEVENT
SUMMARY:Cecilia Pavón | Poesie ist kein Projekt
DTSTART;TZID=Europe/Vienna:20101006T190000
DTSTAMP:20260422T072920Z
UID:6a61619fac39f0a6c1c32112ea7ba73b@www.akbild.ac.at
CATEGORIES:Vorträge / Veranstaltungen
CREATED:20220311T230933Z
DESCRIPTION:Vortrag findet im Rahmen des vom WWTF geförderten Forschungsp
 rojekts "Troubling Research. Performing Knowledge in the Arts" statt.
LAST-MODIFIED:20240919T081112Z
URL:https://www.akbild.ac.at/de/universitaet/veranstaltungen/vortraege-eve
 nts/2010/akbild_event.2010-09-23.1100974130
END:VEVENT
BEGIN:VTIMEZONE
TZID:Europe/Vienna
X-LIC-LOCATION:Europe/Vienna
BEGIN:DAYLIGHT
DTSTART:20100328T030000
TZNAME:CEST
TZOFFSETFROM:+0100
TZOFFSETTO:+0200
END:DAYLIGHT
END:VTIMEZONE
END:VCALENDAR
