BEGIN:VCALENDAR
VERSION:2.0
PRODID:-//Plone.org//NONSGML plone.app.event//EN
X-WR-TIMEZONE:Europe/Vienna
BEGIN:VEVENT
SUMMARY:Wissenschaft und Kunst | Exemplarische Positionen
DTSTART;VALUE=DATE:20101126
DTEND;VALUE=DATE:20101128
DTSTAMP:20260423T114302Z
UID:186334194030187cff19f2e574c21404@www.akbild.ac.at
CATEGORIES:Vorträge / Veranstaltungen
CREATED:20220311T231051Z
DESCRIPTION:Symposium der ARGE „Wissenschaft und Kunst“ der Österreic
 hischen Forschungsgemeinschaft\n \n Begrüßung durch den Rektor Stephan S
 chmidt-Wulffen\n \n Einleitung Otto Neumaier (Salzburg)
LAST-MODIFIED:20240919T081112Z
URL:https://www.akbild.ac.at/de/universitaet/veranstaltungen/vortraege-eve
 nts/2010/akbild_event.2010-10-11.7266282169
END:VEVENT
END:VCALENDAR
