BEGIN:VCALENDAR
VERSION:2.0
PRODID:-//Plone.org//NONSGML plone.app.event//EN
X-WR-TIMEZONE:Europe/Vienna
BEGIN:VEVENT
SUMMARY:Kritische Strategien in Kunst und Medien 2010
DTSTART;TZID=Europe/Vienna:20101104T180000
DTEND;TZID=Europe/Vienna:20101104T200000
DTSTAMP:20260422T222819Z
UID:f05f3e8d28d1cbbc24adbc12f226e9c8@www.akbild.ac.at
CATEGORIES:Vorträge / Veranstaltungen
CREATED:20220311T230946Z
DESCRIPTION:Ein Panel mit Radostina Patulova\, Ralo Mayer\, Martin Wasserm
 air und Konrad Becker über die Zukunft von Kunst und Kultur in einer sich
  wirtschaftlich und ökologisch schnell verändernden Welt. Moderation: So
 nja Eismann.\n \n Veranstaltet vom Institut für bildende Kunst\, Konzeptu
 elle Kunst und dem World-Information Institut.
LAST-MODIFIED:20240919T081112Z
URL:https://www.akbild.ac.at/de/universitaet/veranstaltungen/vortraege-eve
 nts/2010/akbild_event.2010-10-24.9339652673
END:VEVENT
BEGIN:VTIMEZONE
TZID:Europe/Vienna
X-LIC-LOCATION:Europe/Vienna
BEGIN:STANDARD
DTSTART:20101031T020000
TZNAME:CET
TZOFFSETFROM:+0200
TZOFFSETTO:+0100
END:STANDARD
END:VTIMEZONE
END:VCALENDAR
