BEGIN:VCALENDAR
VERSION:2.0
PRODID:-//Plone.org//NONSGML plone.app.event//EN
X-WR-TIMEZONE:Europe/Vienna
BEGIN:VEVENT
SUMMARY:This Sentence Is Now Being Performed
DTSTART;VALUE=DATE:20101119
DTEND;VALUE=DATE:20101121
DTSTAMP:20260424T120750Z
UID:db02548ce646c24198f4cbda9c4443d8@www.akbild.ac.at
CATEGORIES:Vorträge / Veranstaltungen
CREATED:20220311T231038Z
DESCRIPTION:Research and Teaching in Performance and Performative Art\n \n
  Idee\, Konzept und Organisation: Carola Dertnig\, Felicitas Thun-Hohenste
 in\n \n Künstlerisch-wissenschaftliche Mitarbeit und Koordination: Lilo N
 ein\n \n Projektmanagement: Dunja Reithner\n \n Projektmanagementassistenz
 : Susi Krautgartner\n \n Konferenzsprache ist sowohl Deutsch als auch Engl
 isch
LAST-MODIFIED:20240919T081112Z
URL:https://www.akbild.ac.at/de/universitaet/veranstaltungen/vortraege-eve
 nts/2010/akbild_event.2010-10-26.0623938029
END:VEVENT
END:VCALENDAR
