BEGIN:VCALENDAR
VERSION:2.0
PRODID:-//Plone.org//NONSGML plone.app.event//EN
X-WR-TIMEZONE:Europe/Vienna
BEGIN:VEVENT
SUMMARY:Productive Limits: Architects Gone Exploratory
DTSTART;VALUE=DATE:20101217
DTEND;VALUE=DATE:20101219
DTSTAMP:20260419T162341Z
UID:2256dfb6d9188c3087622c5555950a77@www.akbild.ac.at
CATEGORIES:Vorträge / Veranstaltungen
CREATED:20220311T231111Z
DESCRIPTION:Ein Kolloquium über "Architektur als eine Art des Denkens" ve
 ranstaltet von Ehemaligen\, Gästen und Lehrenden des Instituts für Kunst
  und Architektur. Kuratiert von Sophie Hochhäusl and Manuel Singer.\n \n 
 Vorträge in englischer Sprache
LAST-MODIFIED:20240919T081112Z
URL:https://www.akbild.ac.at/de/universitaet/veranstaltungen/vortraege-eve
 nts/2010/akbild_event.2010-12-13.1096341542
END:VEVENT
END:VCALENDAR
