BEGIN:VCALENDAR
VERSION:2.0
PRODID:-//Plone.org//NONSGML plone.app.event//EN
X-WR-TIMEZONE:Europe/Vienna
BEGIN:VEVENT
SUMMARY:Solararchitektur
DTSTART;TZID=Europe/Vienna:20101215T143000
DTSTAMP:20260425T030233Z
UID:2ae692898d318eb5bdd10b03f7b303cf@www.akbild.ac.at
CATEGORIES:Vorträge / Veranstaltungen
CREATED:20220311T231104Z
DESCRIPTION:Vortrag von Georg W. Reinberg\, Architekt organisiert vom Inst
 itut für Kunst und Architektur im Rahmen der LV. Ökologie I / Sabine Bar
 tscherer.
LAST-MODIFIED:20240919T081112Z
URL:https://www.akbild.ac.at/de/universitaet/veranstaltungen/vortraege-eve
 nts/2010/akbild_event.2010-12-13.1843799455
END:VEVENT
BEGIN:VTIMEZONE
TZID:Europe/Vienna
X-LIC-LOCATION:Europe/Vienna
BEGIN:STANDARD
DTSTART:20101031T020000
TZNAME:CET
TZOFFSETFROM:+0200
TZOFFSETTO:+0100
END:STANDARD
END:VTIMEZONE
END:VCALENDAR
