BEGIN:VCALENDAR
VERSION:2.0
PRODID:-//Plone.org//NONSGML plone.app.event//EN
X-WR-TIMEZONE:Europe/Vienna
BEGIN:VEVENT
SUMMARY:Textiles in motion
DTSTART;TZID=Europe/Vienna:20101215T190000
DTSTAMP:20260425T025126Z
UID:1f3ba00cb957a4804db84e9f29a386b7@www.akbild.ac.at
CATEGORIES:Vorträge / Veranstaltungen
CREATED:20220311T231103Z
DESCRIPTION:Vortrag von Sarah Bonnemaision\, Dalhousie University\, Canada
  organisiert vom Institut für das künstlerische Lehramt\, Moden und Styl
 es.\n \n Vortrag in englischer Sprache.
LAST-MODIFIED:20240919T081112Z
URL:https://www.akbild.ac.at/de/universitaet/veranstaltungen/vortraege-eve
 nts/2010/akbild_event.2010-12-13.8857822352
END:VEVENT
BEGIN:VTIMEZONE
TZID:Europe/Vienna
X-LIC-LOCATION:Europe/Vienna
BEGIN:STANDARD
DTSTART:20101031T020000
TZNAME:CET
TZOFFSETFROM:+0200
TZOFFSETTO:+0100
END:STANDARD
END:VTIMEZONE
END:VCALENDAR
