BEGIN:VCALENDAR
VERSION:2.0
PRODID:-//Plone.org//NONSGML plone.app.event//EN
X-WR-TIMEZONE:Europe/Vienna
BEGIN:VEVENT
SUMMARY:Rundgang 2010
DTSTART;VALUE=DATE:20100121
DTEND;VALUE=DATE:20100125
DTSTAMP:20260423T173806Z
UID:b617dc8faaca84e6a10ee5b7806daaa0@www.akbild.ac.at
CATEGORIES:Vorträge / Veranstaltungen
CREATED:20220311T230718Z
DESCRIPTION:Do\, 21.01.\, 16.00-24.00 h\n \n Fr\, 22.01.\, 10.00-20.00 h\n
  \n Sa\, 23.01.\, 12.00-20.00 h\n \n So\, 24.01.\, 12.00-20.00 h\n \n \n D
 ie Akademie der bildenden Künste Wien lädt zum Rundgang durch die Sammlu
 ngen und die Ordinariate und Ateliers des Instituts für Bildende Kunst\, 
 des Instituts für Kunst- und Kulturwissenschaften\, des Instituts für Ku
 nst und Architektur\, des Instituts für das künstlerische Lehramt\, des 
 Instituts für Konservierung-Restaurierung sowie des Instituts für Naturw
 issenschaften und Technologie in der Kunst.
LAST-MODIFIED:20240919T081109Z
URL:https://www.akbild.ac.at/de/universitaet/veranstaltungen/vortraege-eve
 nts/2010/copy_of_akbild_event.2008-11-24.9923444772
END:VEVENT
END:VCALENDAR
