BEGIN:VCALENDAR
VERSION:2.0
PRODID:-//Plone.org//NONSGML plone.app.event//EN
X-WR-TIMEZONE:Europe/Vienna
BEGIN:VEVENT
SUMMARY:Gravity & Grace von Chris Kraus
DTSTART;TZID=Europe/Vienna:20110115T180000
DTSTAMP:20260423T144034Z
UID:115de96ea0f654f41773c93b2b98226b@www.akbild.ac.at
CATEGORIES:Vorträge / Veranstaltungen
CREATED:20220311T231134Z
DESCRIPTION:Filmpräsentation veranstaltet vom Institut für Kunst und Kul
 turwissenschaften.
LAST-MODIFIED:20240919T081102Z
URL:https://www.akbild.ac.at/de/universitaet/veranstaltungen/vortraege-eve
 nts/2011/akbild_event.2011-01-11.5757716778
END:VEVENT
BEGIN:VTIMEZONE
TZID:Europe/Vienna
X-LIC-LOCATION:Europe/Vienna
BEGIN:STANDARD
DTSTART:20101031T020000
TZNAME:CET
TZOFFSETFROM:+0200
TZOFFSETTO:+0100
END:STANDARD
END:VTIMEZONE
END:VCALENDAR
