BEGIN:VCALENDAR
VERSION:2.0
PRODID:-//Plone.org//NONSGML plone.app.event//EN
X-WR-TIMEZONE:Europe/Vienna
BEGIN:VEVENT
SUMMARY:PLUS. Large scale housing development. An exceptional case.
DTSTART;TZID=Europe/Vienna:20110124T190000
DTSTAMP:20260425T133959Z
UID:27cb353a4256d90c7e9be0bac842f0ac@www.akbild.ac.at
CATEGORIES:Vorträge / Veranstaltungen
CREATED:20220311T231218Z
DESCRIPTION:Vortrag von Jean Philippe Vassal im Rahmen der Vortragsreihe "
 Built and Un-built Utopias - The Politics of Conversions" veranstaltet vom
  Institut für Kunst und Architektur im Wintersemester 2010/11. Vortrag in
  englischer Sprache.
LAST-MODIFIED:20240919T081102Z
URL:https://www.akbild.ac.at/de/universitaet/veranstaltungen/vortraege-eve
 nts/2011/akbild_event.2011-01-24.4920384809
END:VEVENT
BEGIN:VTIMEZONE
TZID:Europe/Vienna
X-LIC-LOCATION:Europe/Vienna
BEGIN:STANDARD
DTSTART:20101031T020000
TZNAME:CET
TZOFFSETFROM:+0200
TZOFFSETTO:+0100
END:STANDARD
END:VTIMEZONE
END:VCALENDAR
