BEGIN:VCALENDAR
VERSION:2.0
PRODID:-//Plone.org//NONSGML plone.app.event//EN
X-WR-TIMEZONE:Europe/Vienna
BEGIN:VEVENT
SUMMARY:Michael Kalki
DTSTART;TZID=Europe/Vienna:20110330T140000
DTSTAMP:20260424T043913Z
UID:44197f5f7818cbf60e812164a01d4077@www.akbild.ac.at
CATEGORIES:Vorträge / Veranstaltungen
CREATED:20220311T231231Z
DESCRIPTION:Vortrag organisiert vom Institut für bildende Kunst\, abstrak
 te Malerei.
LAST-MODIFIED:20240919T081102Z
URL:https://www.akbild.ac.at/de/universitaet/veranstaltungen/vortraege-eve
 nts/2011/akbild_event.2011-03-24.0564054066
END:VEVENT
BEGIN:VTIMEZONE
TZID:Europe/Vienna
X-LIC-LOCATION:Europe/Vienna
BEGIN:DAYLIGHT
DTSTART:20110327T030000
TZNAME:CEST
TZOFFSETFROM:+0100
TZOFFSETTO:+0200
END:DAYLIGHT
END:VTIMEZONE
END:VCALENDAR
