BEGIN:VCALENDAR
VERSION:2.0
PRODID:-//Plone.org//NONSGML plone.app.event//EN
X-WR-TIMEZONE:Europe/Vienna
BEGIN:VEVENT
SUMMARY:Matt und schlapp wie Schnee
DTSTART;TZID=Europe/Vienna:20110404T180000
DTSTAMP:20260423T113315Z
UID:1e917d28058b31d7289a284c0bf705e2@www.akbild.ac.at
CREATED:20220311T231244Z
DESCRIPTION:Display von Forschungsergebnissen von Stefanie Seibold im Rahm
 en des WWTF-Forschungsprojekt Troubling Research - Performing Knowledge in
  the Arts.\n \n Öffnungszeiten von 16-19 Uhr.
LAST-MODIFIED:20240919T081105Z
URL:https://www.akbild.ac.at/de/universitaet/veranstaltungen/vortraege-eve
 nts/2011/akbild_event.2011-03-30.1418980594/SubEvent
END:VEVENT
BEGIN:VTIMEZONE
TZID:Europe/Vienna
X-LIC-LOCATION:Europe/Vienna
BEGIN:DAYLIGHT
DTSTART:20110327T030000
TZNAME:CEST
TZOFFSETFROM:+0100
TZOFFSETTO:+0200
END:DAYLIGHT
END:VTIMEZONE
END:VCALENDAR
