BEGIN:VCALENDAR
VERSION:2.0
PRODID:-//Plone.org//NONSGML plone.app.event//EN
X-WR-TIMEZONE:Europe/Vienna
BEGIN:VEVENT
SUMMARY:Die Akademie ist keine Insel
DTSTART;TZID=Europe/Vienna:20110406T133000
DTSTAMP:20260423T220730Z
UID:38b6147276b6e8299c084a3810e018d4@www.akbild.ac.at
CATEGORIES:Vorträge / Veranstaltungen
CREATED:20220311T231242Z
DESCRIPTION:Informationen und Diskussion zum Fremdenrecht und dem Umgang d
 amit an der Akademie der bildenden Künste Wien\n \n Mit Kübra Atasoy (Au
 sländer_innenreferat – Bundesvertretung ÖH)\, Ibrahim Basar (helping h
 ands – Koordinationsbüro für integrative und antirassistische Projekte
 )\, Daniela Böckle (ÖAD)\, Vertreter_innen der AG Migration und Antirass
 ismus\, Andreas Spiegl (Vizerektor für Lehre und Forschung) moderiert von
  Petja Dimitrova (Arbeitskreis für Gleichbehandlungsfragen)
LAST-MODIFIED:20240919T081105Z
URL:https://www.akbild.ac.at/de/universitaet/veranstaltungen/vortraege-eve
 nts/2011/akbild_event.2011-04-01.5999716163
END:VEVENT
BEGIN:VTIMEZONE
TZID:Europe/Vienna
X-LIC-LOCATION:Europe/Vienna
BEGIN:DAYLIGHT
DTSTART:20110327T030000
TZNAME:CEST
TZOFFSETFROM:+0100
TZOFFSETTO:+0200
END:DAYLIGHT
END:VTIMEZONE
END:VCALENDAR
