BEGIN:VCALENDAR
VERSION:2.0
PRODID:-//Plone.org//NONSGML plone.app.event//EN
X-WR-TIMEZONE:Europe/Vienna
BEGIN:VEVENT
SUMMARY:Stripping\, Filling\, Lifting | Transforming Lincoln Center: From 
 Harrison\, Johnson & Co to Diller Scofidio + Renfro
DTSTART;TZID=Europe/Vienna:20110411T190000
DTSTAMP:20260425T010950Z
UID:f4c32e5d2449b459fe00ecce1ee6fd75@www.akbild.ac.at
CATEGORIES:Vorträge / Veranstaltungen
CREATED:20220311T231247Z
DESCRIPTION:Vortrag von Stefan Gruber im Rahmen der Vortragsreihe BIG! BAD
 ? MODERN\, veranstaltet vom Institut für Kunst und Architektur.
LAST-MODIFIED:20240919T081105Z
URL:https://www.akbild.ac.at/de/universitaet/veranstaltungen/vortraege-eve
 nts/2011/akbild_event.2011-04-06.4965759581
END:VEVENT
BEGIN:VTIMEZONE
TZID:Europe/Vienna
X-LIC-LOCATION:Europe/Vienna
BEGIN:DAYLIGHT
DTSTART:20110327T030000
TZNAME:CEST
TZOFFSETFROM:+0100
TZOFFSETTO:+0200
END:DAYLIGHT
END:VTIMEZONE
END:VCALENDAR
