BEGIN:VCALENDAR
VERSION:2.0
PRODID:-//Plone.org//NONSGML plone.app.event//EN
X-WR-TIMEZONE:Europe/Vienna
BEGIN:VEVENT
SUMMARY:Cut Out - Add In (Ausschneiden und Einfügen von Licht)
DTSTART;TZID=Europe/Vienna:20110518T140000
DTSTAMP:20260424T031104Z
UID:da4ef010ca1cbfc53e085600390ce59d@www.akbild.ac.at
CATEGORIES:Vorträge / Veranstaltungen
CREATED:20220311T231319Z
DESCRIPTION:Vortrag von Ingo Nussbaumer am Institut für bildende Kunst\, 
 Abstrakte Malerei (Prof. Erwin Bohatsch).
LAST-MODIFIED:20240919T081105Z
URL:https://www.akbild.ac.at/de/universitaet/veranstaltungen/vortraege-eve
 nts/2011/akbild_event.2011-04-12.9058729792
END:VEVENT
BEGIN:VTIMEZONE
TZID:Europe/Vienna
X-LIC-LOCATION:Europe/Vienna
BEGIN:DAYLIGHT
DTSTART:20110327T030000
TZNAME:CEST
TZOFFSETFROM:+0100
TZOFFSETTO:+0200
END:DAYLIGHT
END:VTIMEZONE
END:VCALENDAR
