BEGIN:VCALENDAR
VERSION:2.0
PRODID:-//Plone.org//NONSGML plone.app.event//EN
X-WR-TIMEZONE:Europe/Vienna
BEGIN:VEVENT
SUMMARY:Vortrag | Wade Guyton
DTSTART;TZID=Europe/Vienna:20110525T140000
DTSTAMP:20260426T043121Z
UID:1a2af101346bd953ba96d76611389922@www.akbild.ac.at
CATEGORIES:Vorträge / Veranstaltungen
CREATED:20220311T231323Z
DESCRIPTION:Vortrag organisiert vom Institut für bildende Kunst\, Abstrak
 te Malerei\, Prof. Erwin Bohatsch anläßlich der Ausstellung "Zeichnungen
  für ein kleines Zimmer" in der Wiener Secession. In englischer Sprache.
LAST-MODIFIED:20240919T081105Z
URL:https://www.akbild.ac.at/de/universitaet/veranstaltungen/vortraege-eve
 nts/2011/akbild_event.2011-05-12.3654217891
END:VEVENT
BEGIN:VTIMEZONE
TZID:Europe/Vienna
X-LIC-LOCATION:Europe/Vienna
BEGIN:DAYLIGHT
DTSTART:20110327T030000
TZNAME:CEST
TZOFFSETFROM:+0100
TZOFFSETTO:+0200
END:DAYLIGHT
END:VTIMEZONE
END:VCALENDAR
