BEGIN:VCALENDAR
VERSION:2.0
PRODID:-//Plone.org//NONSGML plone.app.event//EN
X-WR-TIMEZONE:Europe/Vienna
BEGIN:VEVENT
SUMMARY:Architecture as the New Geography
DTSTART;TZID=Europe/Vienna:20110630T190000
DTSTAMP:20260424T135315Z
UID:136e45a8324b453ad3b8eff0a1dc7d6b@www.akbild.ac.at
CATEGORIES:Vorträge / Veranstaltungen
CREATED:20220311T231345Z
DESCRIPTION:Vortrag von Shelley McNamara im Rahmen der Vortragsreihe BIG! 
 BAD? MODERN: veranstaltet vom Institut für Kunst und Architektur.
LAST-MODIFIED:20240919T081105Z
URL:https://www.akbild.ac.at/de/universitaet/veranstaltungen/vortraege-eve
 nts/2011/akbild_event.2011-06-23.1776896394
END:VEVENT
BEGIN:VTIMEZONE
TZID:Europe/Vienna
X-LIC-LOCATION:Europe/Vienna
BEGIN:DAYLIGHT
DTSTART:20110327T030000
TZNAME:CEST
TZOFFSETFROM:+0100
TZOFFSETTO:+0200
END:DAYLIGHT
END:VTIMEZONE
END:VCALENDAR
