BEGIN:VCALENDAR
VERSION:2.0
PRODID:-//Plone.org//NONSGML plone.app.event//EN
X-WR-TIMEZONE:Europe/Vienna
BEGIN:VEVENT
SUMMARY:The Politics of Forms and Forces
DTSTART;TZID=Europe/Vienna:20111018T200000
DTSTAMP:20260424T170118Z
UID:f9aff9f9b5d90c8a0478817911c0d21c@www.akbild.ac.at
CATEGORIES:Vorträge / Veranstaltungen
CREATED:20220311T231357Z
DESCRIPTION:Vortrag von Trinh T. Minh-ha organisiert vom Institut für Kun
 st- und Kulturwissenschaften\, Studiengang PhD-in-Practice. Einführung: R
 enate Lorenz\, anschließend: Gespräch mit Marina Grzinic. Vortrag in eng
 lischer Sprache.
LAST-MODIFIED:20240919T081105Z
URL:https://www.akbild.ac.at/de/universitaet/veranstaltungen/vortraege-eve
 nts/2011/akbild_event.2011-09-05.6387077591
END:VEVENT
BEGIN:VTIMEZONE
TZID:Europe/Vienna
X-LIC-LOCATION:Europe/Vienna
BEGIN:DAYLIGHT
DTSTART:20110327T030000
TZNAME:CEST
TZOFFSETFROM:+0100
TZOFFSETTO:+0200
END:DAYLIGHT
END:VTIMEZONE
END:VCALENDAR
