BEGIN:VCALENDAR
VERSION:2.0
PRODID:-//Plone.org//NONSGML plone.app.event//EN
X-WR-TIMEZONE:Europe/Vienna
BEGIN:VEVENT
SUMMARY:Thementag Künstlerische Forschung
DTSTART;TZID=Europe/Vienna:20111116T170000
DTEND;TZID=Europe/Vienna:20111116T210000
DTSTAMP:20260424T105613Z
UID:a63384c12853637f331eb89cb7ecbf2e@www.akbild.ac.at
CATEGORIES:Vorträge / Veranstaltungen
CREATED:20220311T231429Z
DESCRIPTION:Eine Veranstaltung im Rahmen der Vienna Art Week 2011.\n \n "K
 ünstlerische Forschung: Wissensformen in der Kunstpraxis": Podiumsdiskuss
 ion\, Präsentation und Film Screening mit Fahim Amir\, Diedrich Diederich
 sen\, Friedemann Derschmidt\, Christian Kravagna\, Christina Linortner\, R
 enate Lorenz\, Johanna Schaffer.\n \n Projektpräsentation: Tal Adler\, Mo
 ira Hille\, Karin Schneider\n \n Moderator: Axel Stockburger\n \n \n Begr
 üßung: Andrea B. Braidt\, Vizerektorin für Kunst | Forschung
LAST-MODIFIED:20240919T081105Z
URL:https://www.akbild.ac.at/de/universitaet/veranstaltungen/vortraege-eve
 nts/2011/akbild_event.2011-09-27.6890733136
END:VEVENT
BEGIN:VTIMEZONE
TZID:Europe/Vienna
X-LIC-LOCATION:Europe/Vienna
BEGIN:STANDARD
DTSTART:20111030T020000
TZNAME:CET
TZOFFSETFROM:+0200
TZOFFSETTO:+0100
END:STANDARD
END:VTIMEZONE
END:VCALENDAR
