BEGIN:VCALENDAR
VERSION:2.0
PRODID:-//Plone.org//NONSGML plone.app.event//EN
X-WR-TIMEZONE:Europe/Vienna
BEGIN:VEVENT
SUMMARY:Ernst A. Plischke Preis 2011
DTSTART;TZID=Europe/Vienna:20111021T180000
DTSTAMP:20260423T230222Z
UID:a3dcbd13d7f3d12bc43001da7ac8eade@www.akbild.ac.at
CATEGORIES:Vorträge / Veranstaltungen
CREATED:20220311T231403Z
DESCRIPTION:Preisverleihung des 2. Ernst A. Plischke Architekturpreises\, 
 ausgelobt von der Ernst Anton Plischke Gesellschaft in Kooperation mit dem
  Institut für Kunst und Architektur und dem Alumniverein.
LAST-MODIFIED:20240919T081105Z
URL:https://www.akbild.ac.at/de/universitaet/veranstaltungen/vortraege-eve
 nts/2011/akbild_event.2011-09-29.3163217332
END:VEVENT
BEGIN:VTIMEZONE
TZID:Europe/Vienna
X-LIC-LOCATION:Europe/Vienna
BEGIN:DAYLIGHT
DTSTART:20110327T030000
TZNAME:CEST
TZOFFSETFROM:+0100
TZOFFSETTO:+0200
END:DAYLIGHT
END:VTIMEZONE
END:VCALENDAR
