BEGIN:VCALENDAR
VERSION:2.0
PRODID:-//Plone.org//NONSGML plone.app.event//EN
X-WR-TIMEZONE:Europe/Vienna
BEGIN:VEVENT
SUMMARY:You Can Be My Double if I Can Be Yours
DTSTART;TZID=Europe/Vienna:20111115T190000
DTSTAMP:20260424T075440Z
UID:1a57228c4277afde4ddff95fcf51b31e@www.akbild.ac.at
CATEGORIES:Vorträge / Veranstaltungen
CREATED:20220311T231520Z
DESCRIPTION:Eine Kooperation des Instituts für bildende Kunst\, Kunst und
  digitale Medien mit dem brut Wien. Organisiert von Jessyca R. Hauser\, Ma
 rie Klein\, Marlies Pöschl\, Michael Simku\, Michaela Schweighofer in Zus
 ammenarbeit mit Barbara Kapusta.
LAST-MODIFIED:20240919T081109Z
URL:https://www.akbild.ac.at/de/universitaet/veranstaltungen/vortraege-eve
 nts/2011/akbild_event.2011-10-17.2147250749
END:VEVENT
BEGIN:VTIMEZONE
TZID:Europe/Vienna
X-LIC-LOCATION:Europe/Vienna
BEGIN:STANDARD
DTSTART:20111030T020000
TZNAME:CET
TZOFFSETFROM:+0200
TZOFFSETTO:+0100
END:STANDARD
END:VTIMEZONE
END:VCALENDAR
