BEGIN:VCALENDAR
VERSION:2.0
PRODID:-//Plone.org//NONSGML plone.app.event//EN
X-WR-TIMEZONE:Europe/Vienna
BEGIN:VEVENT
SUMMARY:Die anwesende Autorin | Wer spricht in der Performance?
DTSTART;TZID=Europe/Vienna:20111104T190000
DTSTAMP:20260422T222819Z
UID:971396f7091083c9a96728ad635bcfdf@www.akbild.ac.at
CATEGORIES:Vorträge / Veranstaltungen
CREATED:20220311T231417Z
DESCRIPTION:Buchpräsentation von Lilo Nein in Kooperation mit dem Institu
 t für bildende Kunst\, Performative Kunst. Begrüßung: Ao.Univ-Prof. Car
 ola Dertnig
LAST-MODIFIED:20240919T081105Z
URL:https://www.akbild.ac.at/de/universitaet/veranstaltungen/vortraege-eve
 nts/2011/akbild_event.2011-10-17.8026895829
END:VEVENT
BEGIN:VTIMEZONE
TZID:Europe/Vienna
X-LIC-LOCATION:Europe/Vienna
BEGIN:STANDARD
DTSTART:20111030T020000
TZNAME:CET
TZOFFSETFROM:+0200
TZOFFSETTO:+0100
END:STANDARD
END:VTIMEZONE
END:VCALENDAR
