BEGIN:VCALENDAR
VERSION:2.0
PRODID:-//Plone.org//NONSGML plone.app.event//EN
X-WR-TIMEZONE:Europe/Vienna
BEGIN:VEVENT
SUMMARY:Da ist eine kriminelle Berührung in der Kunst
DTSTART;TZID=Europe/Vienna:20111024T150000
DTSTAMP:20260423T114130Z
UID:4e381319e8ece0ebc185231d6ae0d23d@www.akbild.ac.at
CATEGORIES:Vorträge / Veranstaltungen
CREATED:20220311T231516Z
DESCRIPTION:Ulay im Gespräch mit Carola Dertnig und Stefanie Seibold. Ver
 anstaltet vom Institut für bildende Kunst\, Performative Kunst\, Ao. Prof
 . Carola Dertnig und Performative Kunst und Bildhauerei / Univ.-Prof. Moni
 ca Bonvicini in Kooperation mit dem Künstlerhaus Wien im Rahmen des Vienn
 ale Specials "Between Inner and Outer Space".
LAST-MODIFIED:20240919T081109Z
URL:https://www.akbild.ac.at/de/universitaet/veranstaltungen/vortraege-eve
 nts/2011/akbild_event.2011-10-19.1805825372
END:VEVENT
BEGIN:VTIMEZONE
TZID:Europe/Vienna
X-LIC-LOCATION:Europe/Vienna
BEGIN:DAYLIGHT
DTSTART:20110327T030000
TZNAME:CEST
TZOFFSETFROM:+0100
TZOFFSETTO:+0200
END:DAYLIGHT
END:VTIMEZONE
END:VCALENDAR
