BEGIN:VCALENDAR
VERSION:2.0
PRODID:-//Plone.org//NONSGML plone.app.event//EN
X-WR-TIMEZONE:Europe/Vienna
BEGIN:VEVENT
SUMMARY:The Art of Listening or How I Threw Away Noise and Learned to Love
  Sound — 30 Years of Touch
DTSTART;TZID=Europe/Vienna:20111027T190000
DTSTAMP:20260423T101117Z
UID:4a7f1f638906431adafee34ba4f6f361@www.akbild.ac.at
CATEGORIES:Vorträge / Veranstaltungen
CREATED:20220311T231405Z
DESCRIPTION:Gastvortrag von Mike Harding und Jana Winderen veranstaltet vo
 m Soundstudio\, Institut für bildenden Kunst. Organisation und Einführun
 g | Franz Pomassl.
LAST-MODIFIED:20240919T081105Z
URL:https://www.akbild.ac.at/de/universitaet/veranstaltungen/vortraege-eve
 nts/2011/akbild_event.2011-10-25.4570781988
END:VEVENT
BEGIN:VTIMEZONE
TZID:Europe/Vienna
X-LIC-LOCATION:Europe/Vienna
BEGIN:DAYLIGHT
DTSTART:20110327T030000
TZNAME:CEST
TZOFFSETFROM:+0100
TZOFFSETTO:+0200
END:DAYLIGHT
END:VTIMEZONE
END:VCALENDAR
