BEGIN:VCALENDAR
VERSION:2.0
PRODID:-//Plone.org//NONSGML plone.app.event//EN
X-WR-TIMEZONE:Europe/Vienna
BEGIN:VEVENT
SUMMARY:Photography Unplugged | Potentiale eines erweiterten Fotografiebeg
 riffs
DTSTART;VALUE=DATE:20111117
DTEND;VALUE=DATE:20111119
DTSTAMP:20260423T144939Z
UID:1cd9b6282f65f7c28f8b7f62ee5bd994@www.akbild.ac.at
CATEGORIES:Vorträge / Veranstaltungen
CREATED:20220311T231434Z
DESCRIPTION:Symposium organisiert von der Freien Klasse der Akademie der b
 ildenden Künste Wien.
LAST-MODIFIED:20240919T081105Z
URL:https://www.akbild.ac.at/de/universitaet/veranstaltungen/vortraege-eve
 nts/2011/akbild_event.2011-11-08.4175465309
END:VEVENT
END:VCALENDAR
