BEGIN:VCALENDAR
VERSION:2.0
PRODID:-//Plone.org//NONSGML plone.app.event//EN
X-WR-TIMEZONE:Europe/Vienna
BEGIN:VEVENT
SUMMARY:Live-Performances im Rahmen der Ausstellung "Troubling Research. P
 erforming Knowledge in the Arts"
DTSTART;TZID=Europe/Vienna:20111201T190000
DTSTAMP:20260425T104543Z
UID:988f114c7404991181a54d5d3e5dcd66@www.akbild.ac.at
CREATED:20220311T231446Z
DESCRIPTION:Performances von von Nina Herlitschka\, Anna Kinbom\, Nicole S
 abella und Janine Maria Schneider.
LAST-MODIFIED:20240919T081105Z
URL:https://www.akbild.ac.at/de/universitaet/veranstaltungen/vortraege-eve
 nts/2011/akbild_event.2011-11-29.9478113159/SubEvent
END:VEVENT
BEGIN:VTIMEZONE
TZID:Europe/Vienna
X-LIC-LOCATION:Europe/Vienna
BEGIN:STANDARD
DTSTART:20111030T020000
TZNAME:CET
TZOFFSETFROM:+0200
TZOFFSETTO:+0100
END:STANDARD
END:VTIMEZONE
END:VCALENDAR
