BEGIN:VCALENDAR
VERSION:2.0
PRODID:-//Plone.org//NONSGML plone.app.event//EN
X-WR-TIMEZONE:Europe/Vienna
BEGIN:VEVENT
SUMMARY:Wato Tsereteli | Creativity as a Profession – Potential in Socia
 l Settings.
DTSTART;TZID=Europe/Vienna:20111215T190000
DTSTAMP:20260419T125045Z
UID:63a7bce49d97284a46c55052c8b5cb40@www.akbild.ac.at
CATEGORIES:Vorträge / Veranstaltungen
CREATED:20220311T231451Z
DESCRIPTION:Vortrag im Rahmen von "Troubling Research. Performing Knowledg
 e in the Arts"\, eine Ausstellung als Teil des transdiziplinären Forschun
 gsprojekts\, gefördert vom  WWTF / Art(s)&amp\;Sciences-Call\; 2009 (Vort
 rag in Englisch). Begrüssung durch Andrea B. Braidt\, Vizerektorin für K
 unst | Forschung.
LAST-MODIFIED:20240919T081105Z
URL:https://www.akbild.ac.at/de/universitaet/veranstaltungen/vortraege-eve
 nts/2011/akbild_event.2011-12-12.2190096065
END:VEVENT
BEGIN:VTIMEZONE
TZID:Europe/Vienna
X-LIC-LOCATION:Europe/Vienna
BEGIN:STANDARD
DTSTART:20111030T020000
TZNAME:CET
TZOFFSETFROM:+0200
TZOFFSETTO:+0100
END:STANDARD
END:VTIMEZONE
END:VCALENDAR
