BEGIN:VCALENDAR
VERSION:2.0
PRODID:-//Plone.org//NONSGML plone.app.event//EN
X-WR-TIMEZONE:Europe/Vienna
BEGIN:VEVENT
SUMMARY:Girls' Stories?
DTSTART;TZID=Europe/Vienna:20120118T193000
DTSTAMP:20260426T003121Z
UID:2f05af0cc7fcdb80fbff09a1e0a21dcf@www.akbild.ac.at
CREATED:20220311T231625Z
DESCRIPTION:4. Salon von FC GLORIA - Frauen Vernetzung Film\n \n Podiumsdi
 skussion in Kooperation mit der Akademie der bildenden Künste Wien. Begr
 üßung durch Vizerektorin Andrea B. Braidt.
LAST-MODIFIED:20240919T081059Z
URL:https://www.akbild.ac.at/de/universitaet/veranstaltungen/vortraege-eve
 nts/2012/akbild_event.2012-01-10.3433814577/SubEvent
END:VEVENT
BEGIN:VTIMEZONE
TZID:Europe/Vienna
X-LIC-LOCATION:Europe/Vienna
BEGIN:STANDARD
DTSTART:20111030T020000
TZNAME:CET
TZOFFSETFROM:+0200
TZOFFSETTO:+0100
END:STANDARD
END:VTIMEZONE
END:VCALENDAR
