BEGIN:VCALENDAR
VERSION:2.0
PRODID:-//Plone.org//NONSGML plone.app.event//EN
X-WR-TIMEZONE:Europe/Vienna
BEGIN:VEVENT
SUMMARY:Welttag der Fremdenführer 2012
DTSTART;TZID=Europe/Vienna:20120226T100000
DTSTAMP:20260423T100117Z
UID:5014e0f71f12f41d3616e7c96d959ff0@www.akbild.ac.at
CATEGORIES:Vorträge / Veranstaltungen
CREATED:20220311T231631Z
DESCRIPTION:Ab 10.00 Uhr finden in der Akademie am Schillerplatz bei freie
 m Eintritt ganztägig laufend Führungen durch die Gemäldegalerie\, sowie
  Vorträge statt.
LAST-MODIFIED:20240919T081059Z
URL:https://www.akbild.ac.at/de/universitaet/veranstaltungen/vortraege-eve
 nts/2012/akbild_event.2012-02-21.0587934982
END:VEVENT
BEGIN:VTIMEZONE
TZID:Europe/Vienna
X-LIC-LOCATION:Europe/Vienna
BEGIN:STANDARD
DTSTART:20111030T020000
TZNAME:CET
TZOFFSETFROM:+0200
TZOFFSETTO:+0100
END:STANDARD
END:VTIMEZONE
END:VCALENDAR
