BEGIN:VCALENDAR
VERSION:2.0
PRODID:-//Plone.org//NONSGML plone.app.event//EN
X-WR-TIMEZONE:Europe/Vienna
BEGIN:VEVENT
SUMMARY:Performance Architecture
DTSTART;TZID=Europe/Vienna:20120312T190000
DTSTAMP:20260423T230157Z
UID:b5716b582e22c3d7f269713a08fdeb98@www.akbild.ac.at
CATEGORIES:Vorträge / Veranstaltungen
CREATED:20220311T231640Z
DESCRIPTION:Vortrag von Alex Schweder La in Zusammenarbeit mit dem Institu
 t für Kunst und Architektur und dem Arbeitskreis für Gleichbehandlungsfr
 agen. Vortrag in Englisch.
LAST-MODIFIED:20240919T081059Z
URL:https://www.akbild.ac.at/de/universitaet/veranstaltungen/vortraege-eve
 nts/2012/akbild_event.2012-02-28.2706829076
END:VEVENT
BEGIN:VTIMEZONE
TZID:Europe/Vienna
X-LIC-LOCATION:Europe/Vienna
BEGIN:STANDARD
DTSTART:20111030T020000
TZNAME:CET
TZOFFSETFROM:+0200
TZOFFSETTO:+0100
END:STANDARD
END:VTIMEZONE
END:VCALENDAR
