BEGIN:VCALENDAR
VERSION:2.0
PRODID:-//Plone.org//NONSGML plone.app.event//EN
X-WR-TIMEZONE:Europe/Vienna
BEGIN:VEVENT
SUMMARY:Alain Badiou und Mihály Vajda im Gespräch mit Peter Engelmann
DTSTART;TZID=Europe/Vienna:20120321T190000
DTSTAMP:20260424T185752Z
UID:3bbededf559ee7ed1cf04a8e6eafcc64@www.akbild.ac.at
CATEGORIES:Vorträge / Veranstaltungen
CREATED:20220311T231645Z
DESCRIPTION:Passagen Gespräche  | Krisenszenarien – Haben Philosophen e
 ine Antwort?\n \n Eine Veranstaltung von Passagen Verlag und Passagen Foru
 m in Kooperation mit der Akademie der bildenden Künste Wien\, anläßlich
  des 25-jährigen Jubiläums des Passagen Verlages.\n \n \n Begrüßung: A
 ndrea B. Braidt\, Vizerektorin Kunst | Forschung
LAST-MODIFIED:20240919T081059Z
URL:https://www.akbild.ac.at/de/universitaet/veranstaltungen/vortraege-eve
 nts/2012/akbild_event.2012-03-01.6667961439
END:VEVENT
BEGIN:VTIMEZONE
TZID:Europe/Vienna
X-LIC-LOCATION:Europe/Vienna
BEGIN:STANDARD
DTSTART:20111030T020000
TZNAME:CET
TZOFFSETFROM:+0200
TZOFFSETTO:+0100
END:STANDARD
END:VTIMEZONE
END:VCALENDAR
