BEGIN:VCALENDAR
VERSION:2.0
PRODID:-//Plone.org//NONSGML plone.app.event//EN
X-WR-TIMEZONE:Europe/Vienna
BEGIN:VEVENT
SUMMARY:3. FORMER WEST Forschungskongress | Beyond What Was Contemporary A
 rt\, Teil 1
DTSTART;VALUE=DATE:20120419
DTEND;VALUE=DATE:20120421
DTSTAMP:20260425T135613Z
UID:0ec31f59d1030140960bdf97d3142331@www.akbild.ac.at
CATEGORIES:Vorträge / Veranstaltungen
CREATED:20220311T231721Z
DESCRIPTION:Ein Projekt der basis voor actuele kunst\, Utrecht in Kooperat
 ion mit der Secession und der Akademie der bildenden Künste Wien.\n \n Fr
 eier Eintritt. Anmeldung wird empfohlen.
LAST-MODIFIED:20240919T081059Z
URL:https://www.akbild.ac.at/de/universitaet/veranstaltungen/vortraege-eve
 nts/2012/akbild_event.2012-03-05.5205943608
END:VEVENT
END:VCALENDAR
