BEGIN:VCALENDAR
VERSION:2.0
PRODID:-//Plone.org//NONSGML plone.app.event//EN
X-WR-TIMEZONE:Europe/Vienna
BEGIN:VEVENT
SUMMARY:Manifesta 9
DTSTART;TZID=Europe/Vienna:20120323T190000
DTSTAMP:20260425T164926Z
UID:2abed0020a6fc3de883c9933f71fddf1@www.akbild.ac.at
CATEGORIES:Vorträge / Veranstaltungen
CREATED:20220311T231651Z
DESCRIPTION:Vorstellung des kuratorischen Konzepts der Manifesta 9 durch K
 urator Cuauhtémoc Medina (Mexiko) veranstaltet vom Institut für Kunst- u
 nd Kulturwissenschaften. (Vortrag in englischer Sprache)
LAST-MODIFIED:20240919T081059Z
URL:https://www.akbild.ac.at/de/universitaet/veranstaltungen/vortraege-eve
 nts/2012/akbild_event.2012-03-14.1567327998
END:VEVENT
BEGIN:VTIMEZONE
TZID:Europe/Vienna
X-LIC-LOCATION:Europe/Vienna
BEGIN:STANDARD
DTSTART:20111030T020000
TZNAME:CET
TZOFFSETFROM:+0200
TZOFFSETTO:+0100
END:STANDARD
END:VTIMEZONE
END:VCALENDAR
