BEGIN:VCALENDAR
VERSION:2.0
PRODID:-//Plone.org//NONSGML plone.app.event//EN
X-WR-TIMEZONE:Europe/Vienna
BEGIN:VEVENT
SUMMARY:Ephemeropterae˜(Performer\, Audience\, Word\, Spoken\, Garden\, F
 riday\, Evening\, Vienna\, Austria)
DTSTART;TZID=Europe/Vienna:20120426T140000
DTSTAMP:20260423T192918Z
UID:34b82c3fd6d8b68bd851022fdb83ba93@www.akbild.ac.at
CATEGORIES:Vorträge / Veranstaltungen
CREATED:20220311T231726Z
DESCRIPTION:Vortrag von Boris Ondreicka im Rahmen der Sound Guest Lecture 
 Series am Institut für bildende Kunst\, Forschungslabor Sound. Vortrag in
  Englisch. Organisiert und moderiert von Franz Pomassl.
LAST-MODIFIED:20240919T081059Z
URL:https://www.akbild.ac.at/de/universitaet/veranstaltungen/vortraege-eve
 nts/2012/akbild_event.2012-04-24.1539638349
END:VEVENT
BEGIN:VTIMEZONE
TZID:Europe/Vienna
X-LIC-LOCATION:Europe/Vienna
BEGIN:DAYLIGHT
DTSTART:20120325T030000
TZNAME:CEST
TZOFFSETFROM:+0100
TZOFFSETTO:+0200
END:DAYLIGHT
END:VTIMEZONE
END:VCALENDAR
