BEGIN:VCALENDAR
VERSION:2.0
PRODID:-//Plone.org//NONSGML plone.app.event//EN
X-WR-TIMEZONE:Europe/Vienna
BEGIN:VEVENT
SUMMARY:Gespräch Patty Mucha mit Carola Dertnig
DTSTART;TZID=Europe/Vienna:20120507T190000
DTSTAMP:20260421T221814Z
UID:cd6fde1a5448fcbd011dd2fe7a84e7c9@www.akbild.ac.at
CATEGORIES:Vorträge / Veranstaltungen
CREATED:20220311T231731Z
DESCRIPTION:Eine Veranstaltung vom Institut für bildende Kunst\, Performa
 tive Kunst in Kooperation mit dem Museum moderner Kunst Wien.
LAST-MODIFIED:20240919T081059Z
URL:https://www.akbild.ac.at/de/universitaet/veranstaltungen/vortraege-eve
 nts/2012/akbild_event.2012-05-02.2258228158
END:VEVENT
BEGIN:VTIMEZONE
TZID:Europe/Vienna
X-LIC-LOCATION:Europe/Vienna
BEGIN:DAYLIGHT
DTSTART:20120325T030000
TZNAME:CEST
TZOFFSETFROM:+0100
TZOFFSETTO:+0200
END:DAYLIGHT
END:VTIMEZONE
END:VCALENDAR
