BEGIN:VCALENDAR
VERSION:2.0
PRODID:-//Plone.org//NONSGML plone.app.event//EN
X-WR-TIMEZONE:Europe/Vienna
BEGIN:VEVENT
SUMMARY:KinderuniKunst 2012 an der Akademie der bildenden Künste Wien
DTSTART;VALUE=DATE:20120530
DTEND;VALUE=DATE:20120628
DTSTAMP:20260425T110538Z
UID:23d444674e54d5055b734f4c48be875a@www.akbild.ac.at
CREATED:20220311T231812Z
LAST-MODIFIED:20240919T081059Z
URL:https://www.akbild.ac.at/de/universitaet/veranstaltungen/vortraege-eve
 nts/2012/akbild_event.2012-05-16.0799894473/SubEvent
END:VEVENT
END:VCALENDAR
