BEGIN:VCALENDAR
VERSION:2.0
PRODID:-//Plone.org//NONSGML plone.app.event//EN
X-WR-TIMEZONE:Europe/Vienna
BEGIN:VEVENT
SUMMARY:Open studio: Suzana Queiroga (Rio de Janeiro)
DTSTART;TZID=Europe/Vienna:20120724T170000
DTSTAMP:20260423T101111Z
UID:4c1da87d2e2d37db59210f4db7d1b435@www.akbild.ac.at
CATEGORIES:Vorträge / Veranstaltungen
CREATED:20220311T231817Z
DESCRIPTION:Die Akademie lädt zur Atelierausstellung der brasilianischen 
 Künstlerin als Teil des Austauschprogramms zwischen der Kunstakademie Esc
 ola de Artes Visuais do Parque Lage in Rio de Janeiro und der Akademie der
  bildenden Künste Wien.\n \n \n Begrüßung:\n \n S.E. Mr. Julio Cezar Ze
 lner Goncalves\, Botschafter der Föderativen Republik Brasilien\n \n Mag.
  Dr. Andrea B. Braidt\, Vizerektorin für Kunst | Forschung\, Akademie der
  bildenden Künste Wien
LAST-MODIFIED:20240919T081059Z
URL:https://www.akbild.ac.at/de/universitaet/veranstaltungen/vortraege-eve
 nts/2012/akbild_event.2012-07-13.6208802680
END:VEVENT
BEGIN:VTIMEZONE
TZID:Europe/Vienna
X-LIC-LOCATION:Europe/Vienna
BEGIN:DAYLIGHT
DTSTART:20120325T030000
TZNAME:CEST
TZOFFSETFROM:+0100
TZOFFSETTO:+0200
END:DAYLIGHT
END:VTIMEZONE
END:VCALENDAR
