BEGIN:VCALENDAR
VERSION:2.0
PRODID:-//Plone.org//NONSGML plone.app.event//EN
X-WR-TIMEZONE:Europe/Vienna
BEGIN:VEVENT
SUMMARY:Florian Nitsch | Inkonsequenzen
DTSTART;TZID=Europe/Vienna:20121006T180000
DTSTAMP:20260422T004914Z
UID:0cd64a018b6009b5211f4f0f2d072a00@www.akbild.ac.at
CATEGORIES:Vorträge / Veranstaltungen
CREATED:20220311T231820Z
DESCRIPTION:Eine Ausstellung des Fachbereichs Kontextuelle Malerei.
LAST-MODIFIED:20240919T081102Z
URL:https://www.akbild.ac.at/de/universitaet/veranstaltungen/vortraege-eve
 nts/2012/akbild_event.2012-09-24.7881813806
END:VEVENT
BEGIN:VTIMEZONE
TZID:Europe/Vienna
X-LIC-LOCATION:Europe/Vienna
BEGIN:DAYLIGHT
DTSTART:20120325T030000
TZNAME:CEST
TZOFFSETFROM:+0100
TZOFFSETTO:+0200
END:DAYLIGHT
END:VTIMEZONE
END:VCALENDAR
